BEGIN:VCALENDAR
VERSION:2.0
PRODID:-//Dan Cox for Governor - ECPv6.15.20//NONSGML v1.0//EN
CALSCALE:GREGORIAN
METHOD:PUBLISH
X-WR-CALNAME:Dan Cox for Governor
X-ORIGINAL-URL:https://dancoxforgovernor.com
X-WR-CALDESC:Events for Dan Cox for Governor
REFRESH-INTERVAL;VALUE=DURATION:PT1H
X-Robots-Tag:noindex
X-PUBLISHED-TTL:PT1H
BEGIN:VTIMEZONE
TZID:America/New_York
BEGIN:DAYLIGHT
TZOFFSETFROM:-0500
TZOFFSETTO:-0400
TZNAME:EDT
DTSTART:20250309T070000
END:DAYLIGHT
BEGIN:STANDARD
TZOFFSETFROM:-0400
TZOFFSETTO:-0500
TZNAME:EST
DTSTART:20251102T060000
END:STANDARD
BEGIN:DAYLIGHT
TZOFFSETFROM:-0500
TZOFFSETTO:-0400
TZNAME:EDT
DTSTART:20260308T070000
END:DAYLIGHT
BEGIN:STANDARD
TZOFFSETFROM:-0400
TZOFFSETTO:-0500
TZNAME:EST
DTSTART:20261101T060000
END:STANDARD
BEGIN:DAYLIGHT
TZOFFSETFROM:-0500
TZOFFSETTO:-0400
TZNAME:EDT
DTSTART:20270314T070000
END:DAYLIGHT
BEGIN:STANDARD
TZOFFSETFROM:-0400
TZOFFSETTO:-0500
TZNAME:EST
DTSTART:20271107T060000
END:STANDARD
END:VTIMEZONE
BEGIN:VEVENT
DTSTART;TZID=America/New_York:20260417T080000
DTEND;TZID=America/New_York:20260418T170000
DTSTAMP:20260420T111150
CREATED:20260417T123953Z
LAST-MODIFIED:20260417T123953Z
UID:2500-1776412800-1776531600@dancoxforgovernor.com
SUMMARY:Dan Cox Near You: Cecil\, Frederick\, & Prince George's
DESCRIPTION:
URL:https://dancoxforgovernor.com/event/dan-cox-near-you-cecil-frederick-prince-georges/
LOCATION:Maryland
ATTACH;FMTTYPE=image/png:https://dancoxforgovernor.com/wp-content/uploads/2026/04/Dan-Cox-Near-You-Meme-3-scaled.png
END:VEVENT
BEGIN:VEVENT
DTSTART;TZID=America/New_York:20260417T113000
DTEND;TZID=America/New_York:20260417T123000
DTSTAMP:20260420T111150
CREATED:20260417T124312Z
LAST-MODIFIED:20260417T124312Z
UID:2503-1776425400-1776429000@dancoxforgovernor.com
SUMMARY:Dan on The Kim Klacik Show
DESCRIPTION:
URL:https://dancoxforgovernor.com/event/dan-on-the-kim-klacik-show/
LOCATION:Maryland
ATTACH;FMTTYPE=image/png:https://dancoxforgovernor.com/wp-content/uploads/2026/04/Kim-Klacik-Show-scaled.png
END:VEVENT
END:VCALENDAR