BEGIN:VCALENDAR
VERSION:2.0
PRODID:-//Dan Cox for Governor - ECPv6.15.20//NONSGML v1.0//EN
CALSCALE:GREGORIAN
METHOD:PUBLISH
X-WR-CALNAME:Dan Cox for Governor
X-ORIGINAL-URL:https://dancoxforgovernor.com
X-WR-CALDESC:Events for Dan Cox for Governor
REFRESH-INTERVAL;VALUE=DURATION:PT1H
X-Robots-Tag:noindex
X-PUBLISHED-TTL:PT1H
BEGIN:VTIMEZONE
TZID:America/New_York
BEGIN:DAYLIGHT
TZOFFSETFROM:-0500
TZOFFSETTO:-0400
TZNAME:EDT
DTSTART:20250309T070000
END:DAYLIGHT
BEGIN:STANDARD
TZOFFSETFROM:-0400
TZOFFSETTO:-0500
TZNAME:EST
DTSTART:20251102T060000
END:STANDARD
BEGIN:DAYLIGHT
TZOFFSETFROM:-0500
TZOFFSETTO:-0400
TZNAME:EDT
DTSTART:20260308T070000
END:DAYLIGHT
BEGIN:STANDARD
TZOFFSETFROM:-0400
TZOFFSETTO:-0500
TZNAME:EST
DTSTART:20261101T060000
END:STANDARD
BEGIN:DAYLIGHT
TZOFFSETFROM:-0500
TZOFFSETTO:-0400
TZNAME:EDT
DTSTART:20270314T070000
END:DAYLIGHT
BEGIN:STANDARD
TZOFFSETFROM:-0400
TZOFFSETTO:-0500
TZNAME:EST
DTSTART:20271107T060000
END:STANDARD
END:VTIMEZONE
BEGIN:VEVENT
DTSTART;VALUE=DATE:20260409
DTEND;VALUE=DATE:20260410
DTSTAMP:20260420T165048
CREATED:20260403T170227Z
LAST-MODIFIED:20260403T181751Z
UID:2365-1775692800-1775779199@dancoxforgovernor.com
SUMMARY:Western Maryland Tour
DESCRIPTION:
URL:https://dancoxforgovernor.com/event/western-maryland-tour/
LOCATION:Port West Restaurant\, 37 Main St\, Westernport\, MD\, 21562
ATTACH;FMTTYPE=image/png:https://dancoxforgovernor.com/wp-content/uploads/2026/04/Dan-Cox-Near-You-Meme-2-scaled.png
END:VEVENT
BEGIN:VEVENT
DTSTART;VALUE=DATE:20260401
DTEND;VALUE=DATE:20260403
DTSTAMP:20260420T165048
CREATED:20260401T144333Z
LAST-MODIFIED:20260401T164446Z
UID:2343-1775001600-1775174399@dancoxforgovernor.com
SUMMARY:Dan Cox Central Maryland Tour
DESCRIPTION:OR YOU CAN SCAN THE QR CODE TO DONATE
URL:https://dancoxforgovernor.com/event/dan-cox-central-maryland-tour/
LOCATION:Maryland
CATEGORIES:Business Tour,Meet & Greet,Town Hall
ATTACH;FMTTYPE=image/png:https://dancoxforgovernor.com/wp-content/uploads/2026/04/Dan-Cox-Near-You-Meme.png
END:VEVENT
BEGIN:VEVENT
DTSTART;TZID=America/New_York:20260330T190000
DTEND;TZID=America/New_York:20260330T200000
DTSTAMP:20260420T165048
CREATED:20260330T221943Z
LAST-MODIFIED:20260330T222153Z
UID:2318-1774897200-1774900800@dancoxforgovernor.com
SUMMARY:Policy Chat With Dan Cox: FaceBook Live
DESCRIPTION:
URL:https://dancoxforgovernor.com/event/policy-chat-with-dan-cox-facebook-live/
LOCATION:Maryland
ATTACH;FMTTYPE=image/jpeg:https://dancoxforgovernor.com/wp-content/uploads/2026/03/policychatmeme.jpg
END:VEVENT
BEGIN:VEVENT
DTSTART;TZID=America/New_York:20260312T180000
DTEND;TZID=America/New_York:20260312T200000
DTSTAMP:20260420T165048
CREATED:20260227T233627Z
LAST-MODIFIED:20260306T153405Z
UID:2132-1773338400-1773345600@dancoxforgovernor.com
SUMMARY:Rathskeller Elkridge Meet & Greet With Dan Cox--Howard County
DESCRIPTION:
URL:https://dancoxforgovernor.com/event/rathskeller-elkridge-meet-greet-with-dan-cox/
LOCATION:Rathskeller Elkridge\, 5782 Main St\,\, Elkridge\, MD\, 21075
ATTACH;FMTTYPE=image/png:https://dancoxforgovernor.com/wp-content/uploads/2026/02/rathskeller-meet-and-greet-scaled.png
END:VEVENT
END:VCALENDAR