BEGIN:VCALENDAR
VERSION:2.0
PRODID:-//Dan Cox for Governor - ECPv6.15.20//NONSGML v1.0//EN
CALSCALE:GREGORIAN
METHOD:PUBLISH
X-WR-CALNAME:Dan Cox for Governor
X-ORIGINAL-URL:https://dancoxforgovernor.com
X-WR-CALDESC:Events for Dan Cox for Governor
REFRESH-INTERVAL;VALUE=DURATION:PT1H
X-Robots-Tag:noindex
X-PUBLISHED-TTL:PT1H
BEGIN:VTIMEZONE
TZID:America/New_York
BEGIN:DAYLIGHT
TZOFFSETFROM:-0500
TZOFFSETTO:-0400
TZNAME:EDT
DTSTART:20250309T070000
END:DAYLIGHT
BEGIN:STANDARD
TZOFFSETFROM:-0400
TZOFFSETTO:-0500
TZNAME:EST
DTSTART:20251102T060000
END:STANDARD
BEGIN:DAYLIGHT
TZOFFSETFROM:-0500
TZOFFSETTO:-0400
TZNAME:EDT
DTSTART:20260308T070000
END:DAYLIGHT
BEGIN:STANDARD
TZOFFSETFROM:-0400
TZOFFSETTO:-0500
TZNAME:EST
DTSTART:20261101T060000
END:STANDARD
BEGIN:DAYLIGHT
TZOFFSETFROM:-0500
TZOFFSETTO:-0400
TZNAME:EDT
DTSTART:20270314T070000
END:DAYLIGHT
BEGIN:STANDARD
TZOFFSETFROM:-0400
TZOFFSETTO:-0500
TZNAME:EST
DTSTART:20271107T060000
END:STANDARD
END:VTIMEZONE
BEGIN:VEVENT
DTSTART;TZID=America/New_York:20260528T130000
DTEND;TZID=America/New_York:20260528T200000
DTSTAMP:20260421T000604
CREATED:20260418T194039Z
LAST-MODIFIED:20260418T194131Z
UID:2506-1779973200-1779998400@dancoxforgovernor.com
SUMMARY:Golf at Norbeck: A Fundraiser For Dan Cox for Governor
DESCRIPTION:Please enable JavaScript in your browser to complete this form.Please enable JavaScript in your browser to complete this form.Individual Dinner Ticket *1 - $150.00Couple's Dinner Ticket *Select - $250.00Bronze Sponsorship Ticket Quantity *Select - $1\,500.001 - $1\,500.002 - $1\,500.00012Silver Sponsorship Ticket Quantity  *Select - $2\,500.001 - $2\,500.002 - $2\,500.00012Gold Sponsorship Ticket Quantity *Select - $5\,000.001 - $5\,000.002 - $0.00012Total Amount$0.00Name *FirstLastOccupation *Employer *Address *Address Line 1Address Line 2City--- Select state ---AlabamaAlaskaArizonaArkansasCaliforniaColoradoConnecticutDelawareDistrict of ColumbiaFloridaGeorgiaHawaiiIdahoIllinoisIndianaIowaKansasKentuckyLouisianaMaineMarylandMassachusettsMichiganMinnesotaMississippiMissouriMontanaNebraskaNevadaNew HampshireNew JerseyNew MexicoNew YorkNorth CarolinaNorth DakotaOhioOklahomaOregonPennsylvaniaRhode IslandSouth CarolinaSouth DakotaTennesseeTexasUtahVermontVirginiaWashingtonWest VirginiaWisconsinWyomingStateZip CodeEmail *Phone Number *Credit Card *		\n			Silver Employer \n			\n		\n		Confirmation *I acknowledge that I have read and agree to abide by the the Terms and ConditionsI acknowledge that upon submitting this form\, my orders are final and can no longer be canceledOrder Tickets
URL:https://dancoxforgovernor.com/event/golf-at-norbeck-a-fundraiser-for-dan-cox-for-governor/
LOCATION:Norbeck Country Club\, 17200 Cashell Rd\, Rockville\, Maryland\, 20853
ATTACH;FMTTYPE=image/png:https://dancoxforgovernor.com/wp-content/uploads/2026/04/Norbeck-Golf-Fundraiser-scaled.png
END:VEVENT
END:VCALENDAR