BEGIN:VCALENDAR
VERSION:2.0
PRODID:-//Dan Cox for Governor - ECPv6.15.20//NONSGML v1.0//EN
CALSCALE:GREGORIAN
METHOD:PUBLISH
X-WR-CALNAME:Dan Cox for Governor
X-ORIGINAL-URL:https://dancoxforgovernor.com
X-WR-CALDESC:Events for Dan Cox for Governor
REFRESH-INTERVAL;VALUE=DURATION:PT1H
X-Robots-Tag:noindex
X-PUBLISHED-TTL:PT1H
BEGIN:VTIMEZONE
TZID:America/New_York
BEGIN:DAYLIGHT
TZOFFSETFROM:-0500
TZOFFSETTO:-0400
TZNAME:EDT
DTSTART:20250309T070000
END:DAYLIGHT
BEGIN:STANDARD
TZOFFSETFROM:-0400
TZOFFSETTO:-0500
TZNAME:EST
DTSTART:20251102T060000
END:STANDARD
BEGIN:DAYLIGHT
TZOFFSETFROM:-0500
TZOFFSETTO:-0400
TZNAME:EDT
DTSTART:20260308T070000
END:DAYLIGHT
BEGIN:STANDARD
TZOFFSETFROM:-0400
TZOFFSETTO:-0500
TZNAME:EST
DTSTART:20261101T060000
END:STANDARD
BEGIN:DAYLIGHT
TZOFFSETFROM:-0500
TZOFFSETTO:-0400
TZNAME:EDT
DTSTART:20270314T070000
END:DAYLIGHT
BEGIN:STANDARD
TZOFFSETFROM:-0400
TZOFFSETTO:-0500
TZNAME:EST
DTSTART:20271107T060000
END:STANDARD
END:VTIMEZONE
BEGIN:VEVENT
DTSTART;TZID=America/New_York:20260413T160000
DTEND;TZID=America/New_York:20260413T180000
DTSTAMP:20260420T124137
CREATED:20260401T143728Z
LAST-MODIFIED:20260401T164936Z
UID:2338-1776096000-1776103200@dancoxforgovernor.com
SUMMARY:Rip's Country Inn Meet & Greet: Prince George's County
DESCRIPTION:OR YOU CAN SCAN THE QR CODE TO DONATE
URL:https://dancoxforgovernor.com/event/rips-country-inn-meet-greet-prince-georges-county/
LOCATION:Rip’s Country Inn\, 3809 Crain Hwy\, Bowie\, Maryland\, 20716
CATEGORIES:Meet & Greet
ATTACH;FMTTYPE=image/png:https://dancoxforgovernor.com/wp-content/uploads/2026/04/Rips-Country-Inn-MeetGreet-1.png
END:VEVENT
END:VCALENDAR