BEGIN:VCALENDAR
VERSION:2.0
PRODID:-//Dan Cox for Governor - ECPv6.15.20//NONSGML v1.0//EN
CALSCALE:GREGORIAN
METHOD:PUBLISH
X-ORIGINAL-URL:https://dancoxforgovernor.com
X-WR-CALDESC:Events for Dan Cox for Governor
REFRESH-INTERVAL;VALUE=DURATION:PT1H
X-Robots-Tag:noindex
X-PUBLISHED-TTL:PT1H
BEGIN:VTIMEZONE
TZID:America/New_York
BEGIN:DAYLIGHT
TZOFFSETFROM:-0500
TZOFFSETTO:-0400
TZNAME:EDT
DTSTART:20250309T070000
END:DAYLIGHT
BEGIN:STANDARD
TZOFFSETFROM:-0400
TZOFFSETTO:-0500
TZNAME:EST
DTSTART:20251102T060000
END:STANDARD
BEGIN:DAYLIGHT
TZOFFSETFROM:-0500
TZOFFSETTO:-0400
TZNAME:EDT
DTSTART:20260308T070000
END:DAYLIGHT
BEGIN:STANDARD
TZOFFSETFROM:-0400
TZOFFSETTO:-0500
TZNAME:EST
DTSTART:20261101T060000
END:STANDARD
BEGIN:DAYLIGHT
TZOFFSETFROM:-0500
TZOFFSETTO:-0400
TZNAME:EDT
DTSTART:20270314T070000
END:DAYLIGHT
BEGIN:STANDARD
TZOFFSETFROM:-0400
TZOFFSETTO:-0500
TZNAME:EST
DTSTART:20271107T060000
END:STANDARD
END:VTIMEZONE
BEGIN:VEVENT
DTSTART;TZID=America/New_York:20260428T173000
DTEND;TZID=America/New_York:20260428T193000
DTSTAMP:20260420T093850
CREATED:20260306T152610Z
LAST-MODIFIED:20260401T162509Z
UID:2201-1777397400-1777404600@dancoxforgovernor.com
SUMMARY:Stone Silo Brewery Meet & Greet--Montgomery County
DESCRIPTION:PLEASE RSVP BELOW\nPlease enable JavaScript in your browser to complete this form.Please enable JavaScript in your browser to complete this form.		\n			you or Any\n			\n		\n		Name *FirstLastEmail *Will you be attending?YesNoHow many additional guests are you bringing?None\, just me.+1+2+3 or moreAny comments or questions?Submit
URL:https://dancoxforgovernor.com/event/stone-silo-brewery-meet-greet-montgomery-county/
LOCATION:Stone Silo Brewery\, 28800 Kemptown Road\, Damascus\, Maryland\, 20872
CATEGORIES:Meet & Greet
ATTACH;FMTTYPE=image/jpeg:https://dancoxforgovernor.com/wp-content/uploads/2026/03/648463366_1504741964925426_8977696767350016832_n.jpg
END:VEVENT
END:VCALENDAR